Workbook

Sheet RESUMO
A1: OBRA | C1: SERVIÇOS COMPLEMENTARES PARA FINALIZAÇÃO DA OBRA DA SEDE DA PREFEITURA MUNICIPAL DE BARRA DE SANTANA - PB - TOMADA DE PREÇOS 0003/2021
A2: LOCAL | C2: =[1]Planilha!D7 -> MUNICÍPIO DE BARRA DE SANTANA - PB
A3: ORÇAMENTO | C3: DESONERADO | E3: =[1]Planilha!G8 -> BDI: 26.4%
A4: PROPRIETÁRIO | C4: =[1]Planilha!D9 -> PREFEITURA MUNICIPAL DE BARRA DE SANTANA - PB | E4: =[1]Planilha!G9 -> ENCARGOS SOCIAIS HORISTA: 87.93%
A5: SINAPI | C5: =[1]Planilha!D10 -> 44440 | E5: =[1]Planilha!G10 -> ENCARGOS SOCIAIS MENSALISTA: 49.41%
A6: RESUMO
A7: Item | D7: Descrição | J7: Total | K7: Peso (%)
A8: 0 | D8: =[1]Planilha!E13 -> PLACA DA OBRA | J8: ='PLANILHA - GLOBAL '!J13 -> 6326.63 | K8: =J8/[1]Planilha!$J$32 -> 0.050068527
A9: 1 | D9: COMPLEMENTO DO PRÉDIO | J9: ='PLANILHA - GLOBAL '!#REF! -> #REF! | K9: =J9/[1]Planilha!$J$32 -> #REF!
A10: 2 | D10: MURO DO ENTORNO DA EDIFICAÇÃO | J10: ='PLANILHA - GLOBAL '!#REF! -> #REF! | K10: =J10/[1]Planilha!$J$32 -> #REF!
A11: 3 | D11: ESTACIONAMENTO | J11: ='PLANILHA - GLOBAL '!J17 -> 43875.3 | K11: =J11/[1]Planilha!$J$32 -> 0.34722619
A12: 4 | D12: MASTRO | J12: ='PLANILHA - GLOBAL '!#REF! -> #REF! | K12: =J12/[1]Planilha!$J$32 -> #REF!
G14: Total sem BDI | I14: =I16/1.264 -> #REF!
G15: Total do BDI | I15: =I16-I14 -> #REF!
G16: Total Geral | I16: =SUM(J8:J12) -> #REF!
A18: BARRA DE SANTANA, 01 DE DEZEMBRO DE 2021.

Sheet PLANILHA - GLOBAL  
L4: % A BAIXAR NOS INSUMOS | N4: 0.35 | P4: 35 BAIXAR
L5: EDITAL | N5: 126359.42 | P5: 1,30 BAIXAR
B6: OBRA | D6: Pavimentação em Intertravado do Estacionamento da Câmara de Barra de Santana _ PB - BARRA DE SANTANA | L6: PLANILHA | N6: =J22 -> 50201.93
B7: LOCAL | D7: CAMARA MUNICIPAL DE BARRA DE SANTANA - PB | L7: DIFERENÇA | N7: =N5-N6 -> 76157.49
B8: ORÇAMENTO | D8: DESONERADO | G8: BDI: 24.30% | L8: % BAIXA NA PLANILHA | N8: =N7/N5 -> 0.60270528
B9: PROPRIETÁRIO | D9: CAMARA MUNICIPAL DE BARRA DE SANTANA - PB
B10: Referência | D10: SINAPI - 05/2022 - PARAÍBA ORSE - 04/2022 - Sergipe SEINFRA - 027 - CEARÁ | N10: 0.238
B11: PLANILHA ORÇAMENTÁRIA
C12: Código | D12: Banco | E12: Descrição | F12: Und | G12: Quant. | H12: Valor Unit | I12: Valor Unit com BDI | J12: Total
B13: 1 | E13: PLACA DA OBRA | J13: =SUM(J14:J16) -> 6326.63
B14: 1.1 | C14: 74209/001 | D14: SINAPI | E14: PLACA DE OBRA EM CHAPA DE ACO GALVANIZADO | F14: m² | G14: 3 | H14: 429.87 | I14: =ROUNDDOWN(H14*(1+$N$10),2) -> 532.17 | J14: =ROUNDDOWN(I14*G14,2) -> 1596.51
B15: 1.2 | C15: CPU 1 - | E15: ATERRO COM EMPRÉSTIMO PARA PASSEIO | F15: m3 | G15: 72.8 | H15: 46.58 | I15: =ROUNDDOWN(H15*(1+$N$10),2) -> 57.66 | J15: =ROUNDDOWN(I15*G15,2) -> 4197.64
B16: 1.3 | C16: 100577 | D16: SINAPI | E16: REGULARIZAÇÃO E COMPACTAÇÃO DE SUBLEITO DE SOLO PREDOMINANTEMENTE ARENOSO. AF_11/2019 | F16: m² | G16: 416 | H16: 1.04 | I16: =ROUNDDOWN(H16*(1+$N$10),2) -> 1.28 | J16: =ROUNDDOWN(I16*G16,2) -> 532.48
B17: 2 | E17: PAVIMENTAÇÃO EM INTERTRAVADO | J17: =SUM(J18:J19) -> 43875.3
B18: 2.1 | C18: CP - CÃMARA BARRA DE SANTANA | D18: Próprio | E18: EXECUÇÃO DE PÁTIO EM PISO INTERTRAVADO, COM BLOCO RETANGULAR COLORIDO DE 20 X 10 CM, ESPESSURA 6 CM (SINAPI 93680) | F18: m² | G18: 416 | H18: 71.33 | I18: =ROUNDDOWN(H18*(1+$N$10),2) -> 88.3 | J18: =ROUNDDOWN(I18*G18,2) -> 36732.8
B19: 2.2 | C19: 94268 | D19: ORSE | E19: GUIA (MEIO-FIO) E SARJETA CONJUGADOS DE CONCRETO, MOLDADA IN LOCO EM TRECHO CURVO COM EXTRUSORA, 45 CM BASE (15 CM BASE DA GUIA + 30 CM BASE DA SARJETA) X 22 CM ALTURA. AF_06/2016 | F19: m | G19: 125 | H19: 46.16 | I19: =ROUNDDOWN(H19*(1+$N$10),2) -> 57.14 | J19: =ROUNDDOWN(I19*G19,2) -> 7142.5
H22: TOTAL DA OBRA | J22: =J17+J13 -> 50201.93
B23: BARRA DE SANTANA, 12 DE AGOSTO DE 2022. | K23: 50407.8

Sheet COMPOSIÇÕES
D1: OBRA | F1: SERVIÇOS COMPLEMENTARES PARA FINALIZAÇÃO DA OBRA DA SEDE DA PREFEITURA MUNICIPAL DE BARRA DE SANTANA - PB - TOMADA DE PREÇOS 0003/2021
D2: LOCAL | F2: MUNICÍPIO DE BARRA DE SANTANA - PB
D3: ORÇAMENTO | F3: DESONERADO | I3: BDI: 26.4%
D4: PROPRIETÁRIO | F4: PREFEITURA MUNICIPAL DE BARRA DE SANTANA - PB | I4: ENCARGOS SOCIAIS HORISTA: 87.93%
D5: SINAPI | F5: 44440 | I5: ENCARGOS SOCIAIS MENSALISTA: 49.41%
D6: Planilha Orçamentária Analítica
B7: INSUMO | C7: 4433 | D7: 0 | G7: PLACA DA OBRA
B8: INSUMO | C8: 5068 | E8: Código | F8: Banco | G8: Descrição | H8: Tipo | J8: Und | K8: Quant. | L8: Valor Unit | M8: Total
B9: INSUMO | C9: 7356 | D9: Insumo | E9: 00004813 | F9: SINAPI | G9: PLACA DE OBRA (PARA CONSTRUCAO CIVIL) EM CHAPA GALVANIZADA *N. 22*, ADESIVADA, DE *2,0 X 1,125* M | H9: Material | J9: m² | K9: 1 | L9: =O9 -> 146.25 | M9: =L9*K9 -> 146.25 | N9: 225 | O9: =N9*(1-'PLANILHA - GLOBAL '!$N$4) -> 146.25
B10: COMPOSICAO | C10: 88316 | L10: VALOR SEM BDI=> | M10: =M9 -> 146.25 | O10: =N10*(1-'PLANILHA - GLOBAL '!$N$4) -> 0
O11: =N11*(1-'PLANILHA - GLOBAL '!$N$4) -> 0
O12: =N12*(1-'PLANILHA - GLOBAL '!$N$4) -> 0
D13: 3 | G13: ESTACIONAMENTO | O13: =N13*(1-'PLANILHA - GLOBAL '!$N$4) -> 0
D14: 3.1 | E14: Código | F14: Banco | G14: Descrição | H14: Tipo | J14: Und | K14: Quant. | L14: Valor Unit | M14: Total | O14: =N14*(1-'PLANILHA - GLOBAL '!$N$4) -> 0
D15: Composição | E15: 93679 | F15: SINAPI | G15: EXECUÇÃO DE PASSEIO EM PISO INTERTRAVADO, COM BLOCO RETANGULAR COLORIDO DE 20 X 10 CM, ESPESSURA 6 CM. AF_12/2015 | H15: PAVI - PAVIMENTAÇÃO | J15: m² | K15: 1 | L15: =M25 -> 40.587012 | M15: =L15 -> 40.587012 | N15: 471.2 | O15: =N15*(1-'PLANILHA - GLOBAL '!$N$4) -> 306.28
D16: Composição Auxiliar | E16: 91277 | F16: SINAPI | G16: PLACA VIBRATÓRIA REVERSÍVEL COM MOTOR 4 TEMPOS A GASOLINA, FORÇA CENTRÍFUGA DE 25 KN (2500 KGF), POTÊNCIA 5,5 CV - CHP DIURNO. AF_08/2015 | H16: CHOR - CUSTOS HORÁRIOS DE MÁQUINAS E EQUIPAMENTOS | J16: CHP | K16: 0.0041 | L16: =O112 -> 6.2205 | M16: =L16*K16 -> 0.02550405 | O16: =N16*(1-'PLANILHA - GLOBAL '!$N$4) -> 0
D17: Composição Auxiliar | E17: 91283 | F17: SINAPI | G17: CORTADORA DE PISO COM MOTOR 4 TEMPOS A GASOLINA, POTÊNCIA DE 13 HP, COM DISCO DE CORTE DIAMANTADO SEGMENTADO PARA CONCRETO, DIÂMETRO DE 350 MM, FURO DE 1" (14 X 1") - CHP DIURNO. AF_08/2015 | H17: CHOR - CUSTOS HORÁRIOS DE MÁQUINAS E EQUIPAMENTOS | J17: CHP | K17: 0.0483 | L17: =O113 -> 14.352 | M17: =L17*K17 -> 0.6932016 | O17: =N17*(1-'PLANILHA - GLOBAL '!$N$4) -> 0
D18: Composição Auxiliar | E18: 91278 | F18: SINAPI | G18: PLACA VIBRATÓRIA REVERSÍVEL COM MOTOR 4 TEMPOS A GASOLINA, FORÇA CENTRÍFUGA DE 25 KN (2500 KGF), POTÊNCIA 5,5 CV - CHI DIURNO. AF_08/2015 | H18: CHOR - CUSTOS HORÁRIOS DE MÁQUINAS E EQUIPAMENTOS | J18: CHI | K18: 0.1947 | L18: =O114 -> 0.351 | M18: =L18*K18 -> 0.0683397 | N18: 21.97 | O18: =N18*(1-'PLANILHA - GLOBAL '!$N$4) -> 14.2805
D19: Composição Auxiliar | E19: 91285 | F19: SINAPI | G19: CORTADORA DE PISO COM MOTOR 4 TEMPOS A GASOLINA, POTÊNCIA DE 13 HP, COM DISCO DE CORTE DIAMANTADO SEGMENTADO PARA CONCRETO, DIÂMETRO DE 350 MM, FURO DE 1" (14 X 1") - CHI DIURNO. AF_08/2015 | H19: CHOR - CUSTOS HORÁRIOS DE MÁQUINAS E EQUIPAMENTOS | J19: CHI | K19: 0.1504 | L19: =O115 -> 0.585 | M19: =L19*K19 -> 0.087984 | N19: 10.37 | O19: =N19*(1-'PLANILHA - GLOBAL '!$N$4) -> 6.7405
D20: Composição Auxiliar | E20: 88316 | F20: SINAPI | G20: SERVENTE COM ENCARGOS COMPLEMENTARES | H20: SEDI - SERVIÇOS DIVERSOS | J20: H | K20: 0.3975 | L20: 13.94 | M20: =L20*K20 -> 5.54115 | N20: 31.21 | O20: =N20*(1-'PLANILHA - GLOBAL '!$N$4) -> 20.2865
D21: Composição Auxiliar | E21: 88260 | F21: SINAPI | G21: CALCETEIRO COM ENCARGOS COMPLEMENTARES | H21: SEDI - SERVIÇOS DIVERSOS | J21: H | K21: 0.3975 | L21: 17.5 | M21: =L21*K21 -> 6.95625 | O21: =N21*(1-'PLANILHA - GLOBAL '!$N$4) -> 0
D22: Insumo | E22: 00000370 | F22: SINAPI | G22: AREIA MEDIA - POSTO JAZIDA/FORNECEDOR (RETIRADO NA JAZIDA, SEM TRANSPORTE) | H22: Material | J22: m³ | K22: 0.0568 | L22: =O118 -> 55.25 | M22: =L22*K22 -> 3.1382 | O22: =N22*(1-'PLANILHA - GLOBAL '!$N$4) -> 0
D23: Insumo | E23: 00036156 | F23: SINAPI | G23: BLOQUETE/PISO INTERTRAVADO DE CONCRETO - MODELO ONDA/16 FACES/RETANGULAR/TIJOLINHO/PAVER/HOLANDES/PARALELEPIPEDO, 20 CM X 10 CM, E = 6 CM, RESISTENCIA DE 35 MPA (NBR 9781), COLORIDO | H23: Material | J23: m² | K23: 1.0487 | L23: =O119 -> 22.646 | M23: =L23*K23 -> 23.74886 | O23: =N23*(1-'PLANILHA - GLOBAL '!$N$4) -> 0
D24: Insumo | E24: 00004741 | F24: SINAPI | G24: PO DE PEDRA (POSTO PEDREIRA/FORNECEDOR, SEM FRETE) | H24: Material | J24: m³ | K24: 0.0065 | L24: =O120 -> 50.388 | M24: =L24*K24 -> 0.327522 | O24: =N24*(1-'PLANILHA - GLOBAL '!$N$4) -> 0
L25: VALOR SEM BDI=> | M25: =SUM(M16:M24) -> 40.587012 | N25: 399.18 | O25: =N25*(1-'PLANILHA - GLOBAL '!$N$4) -> 259.467
O26: =N26*(1-'PLANILHA - GLOBAL '!$N$4) -> 0
D27: 3.2 | E27: Código | F27: Banco | G27: Descrição | H27: Tipo | J27: Und | K27: Quant. | L27: Valor Unit | M27: Total | O27: =N27*(1-'PLANILHA - GLOBAL '!$N$4) -> 0
D28: Composição | E28: 4555 | F28: ORSE | G28: Meio-fio de concreto simples, rejuntado com argamassa de cimento e areia no traço 1:3 | H28: Meios-Fios e Guias | J28: m | K28: 1 | L28: =M35 -> 17.721477 | M28: =L28 -> 17.721477 | N28: 260.45 | O28: =N28*(1-'PLANILHA - GLOBAL '!$N$4) -> 169.2925
D29: Composição Auxiliar | E29: 1903 | F29: ORSE | G29: Argamassa cimento e areia traço t-1 (1:3) - 1 saco cimento 50kg / 3 padiolas areia dim. 0.35 x 0.45 x 0.23 m - Confecção mecânica e transporte | H29: Argamassas | J29: m³ | K29: 0.001 | L29: =O125 -> 253.877 | M29: =L29*K29 -> 0.253877 | O29: =N29*(1-'PLANILHA - GLOBAL '!$N$4) -> 0
D30: Composição Auxiliar | E30: 10549 | F30: ORSE | G30: Encargos Complementares - Servente | H30: Provisórios | J30: h | K30: 0.36 | L30: 3.53 | M30: =L30*K30 -> 1.2708 | O30: =N30*(1-'PLANILHA - GLOBAL '!$N$4) -> 0
D31: Composição Auxiliar | E31: 10550 | F31: ORSE | G31: Encargos Complementares - Pedreiro | H31: Provisórios | J31: h | K31: 0.18 | L31: 3.41 | M31: =L31*K31 -> 0.6138 | O31: =N31*(1-'PLANILHA - GLOBAL '!$N$4) -> 0
D32: Insumo | E32: 1611 | F32: ORSE | G32: Meio fio pré-moldado concreto (0,12 x 0,30 x 1,00m) Meio-fio pré-moldado concreto (0,12 x 0,30 x 1,00m) | H32: Material | J32: m | K32: 1 | L32: =O128 -> 9.49 | M32: =L32*K32 -> 9.49 | O32: =N32*(1-'PLANILHA - GLOBAL '!$N$4) -> 0
D33: Insumo | E33: 00004750 | F33: SINAPI | G33: PEDREIRO | H33: Mão de Obra | J33: H | K33: 0.18 | L33: 13.61 | M33: =L33*K33 -> 2.4498 | O33: =N33*(1-'PLANILHA - GLOBAL '!$N$4) -> 0
D34: Insumo | E34: 00006111 | F34: SINAPI | G34: SERVENTE DE OBRAS | H34: Mão de Obra | J34: H | K34: 0.36 | L34: 10.12 | M34: =L34*K34 -> 3.6432 | O34: =N34*(1-'PLANILHA - GLOBAL '!$N$4) -> 0
L35: VALOR SEM BDI=> | M35: =SUM(M29:M34) -> 17.721477 | O35: =N35*(1-'PLANILHA - GLOBAL '!$N$4) -> 0
O36: =N36*(1-'PLANILHA - GLOBAL '!$N$4) -> 0
O37: =N37*(1-'PLANILHA - GLOBAL '!$N$4) -> 0
O38: =N38*(1-'PLANILHA - GLOBAL '!$N$4) -> 0
D39: BARRA DE SANTANA, 01 DE DEZEMBRO DE 2021. | O39: =N39*(1-'PLANILHA - GLOBAL '!$N$4) -> 0
O40: =N40*(1-'PLANILHA - GLOBAL '!$N$4) -> 0
...

Sheet CRONOGRAMA 
B5: OBRA | C5: =COMPOSIÇÕES!F1 -> SERVIÇOS COMPLEMENTARES PARA FINALIZAÇÃO DA OBRA DA SEDE DA PREFEITURA MUNICIPAL DE BARRA DE SANTANA - PB - TOMADA DE PREÇOS 0003/2021
B6: LOCAL | C6: =COMPOSIÇÕES!F2 -> MUNICÍPIO DE BARRA DE SANTANA - PB
B7: ORÇAMENTO | C7: =COMPOSIÇÕES!F3 -> DESONERADO
B8: PROPRIETÁRIO | C8: =COMPOSIÇÕES!F4 -> PREFEITURA MUNICIPAL DE BARRA DE SANTANA - PB
B9: SINAPI | C9: =COMPOSIÇÕES!F5 -> 44440
B10: Cronograma Físico e Financeiro
B11: Item | C11: Descrição | D11: Total Por Etapa | E11: 30 DIAS | F11: 60 DIAS
B12: 0 | C12: =RESUMO!D8 -> PLACA DA OBRA | D12: =RESUMO!J8 -> 6326.63 | E12: =D12 -> 6326.63
B13: 3 | C13: =RESUMO!D11 -> ESTACIONAMENTO | D13: =RESUMO!J11 -> 43875.3 | E13: =D13*0.3 -> 13162.59 | F13: =0.7*D13 -> 30712.71
B14: Porcentagem | E14: =E15/$F$17 -> 0.38821655 | F14: =F15/$F$17 -> 0.61178345
B15: Custo | E15: =SUM(E12:E13) -> 19489.22 | F15: =SUM(F12:F13) -> 30712.71
B16: Porcentagem Acumulado | E16: =E14 -> 0.38821655 | F16: =F14+E16 -> 1
B17: Custo Acumulado | E17: =E15 -> 19489.22 | F17: =F15+E17 -> 50201.93
B29: BARRA DE SANTANA, 01 DE DEZEMBRO DE 2021.

Sheet Bdi
B1: OBRA | D1: SERVIÇOS COMPLEMENTARES PARA FINALIZAÇÃO DA OBRA DA SEDE DA PREFEITURA MUNICIPAL DE BARRA DE SANTANA - PB - TOMADA DE PREÇOS 0003/2021
B2: LOCAL | D2: =[2]Planilha!D7 -> MUNICÍPIO DE BARRA DE SANTANA - PB
B3: ORÇAMENTO | D3: =[2]Planilha!D8 -> DESONERADO
B4: PROPRIETÁRIO | D4: =[2]Planilha!D9 -> PREFEITURA MUNICIPAL DE BARRA DE SANTANA - PB | F4: =[2]Planilha!G9 -> ENCARGOS SOCIAIS HORISTA: 116.38%
B5: SINAPI | D5: SINAPI - 09/2021 - PARAÍBA ORSE - 08/2021 - Sergipe | F5: =[2]Planilha!G10 -> ENCARGOS SOCIAIS MENSALISTA: 72.61%
B6: CÁLCULO DO BDI
B8: CÁLCULO DE BDI | D8: Construção de Edifícios | G8: Rodovias e Ferrovias - Infra Urbana, praças, calçadas, etc. | J8: Abastecimento de Água, Coleta de Esgoto | M8: Fornecimento de materiais e equipamentos | P8: Construção e Manutenção de Estações e Redes de Distribuição de Energia Elétrica | S8: Portuárias, Marítimas e Fluviais
B9: Item componente do BDI | C9: % Informado | D9: 1ºQ | E9: Médio | F9: 3º Q | G9: 1ºQ | H9: Médio | I9: 3º Q | J9: 1ºQ | K9: Médio | L9: 3º Q | M9: 1ºQ | N9: Médio | O9: 3º Q | P9: 1ºQ | Q9: Médio | R9: 3º Q | S9: 1ºQ | T9: Médio | U9: 3º Q
B10: Administração Central ( AC ) | C10: 0.045 | D10: 3 | E10: 4 | F10: 5.5 | G10: 3.8 | H10: 4.01 | I10: 4.67 | J10: 3.43 | K10: 4.93 | L10: 6.71 | M10: 1.5 | N10: 3.45 | O10: 4.49 | P10: 5.29 | Q10: 5.92 | R10: 7.93 | S10: 4 | T10: 5.52 | U10: 7.85
B11: Seguro (S) e Garantia (G) | C11: 0.008 | D11: 0.8 | E11: 0.8 | F11: 1 | G11: 0.32 | H11: 0.4 | I11: 0.74 | J11: 0.28 | K11: 0.49 | L11: 0.75 | M11: 0.3 | N11: 0.48 | O11: 0.82 | P11: 0.25 | Q11: 0.51 | R11: 0.56 | S11: 0.81 | T11: 1.22 | U11: 1.99
B12: Risco (R) | C12: 0.005 | D12: 0.97 | E12: 1.27 | F12: 1.27 | G12: 0.5 | H12: 0.56 | I12: 0.97 | J12: 1 | K12: 1.39 | L12: 1.74 | M12: 0.56 | N12: 0.85 | O12: 0.89 | P12: 1 | Q12: 1.48 | R12: 1.97 | S12: 1.46 | T12: 2.32 | U12: 3.16
B13: Despesas Financeiras (DF) | C13: 0.0078 | D13: 0.59 | E13: 1.23 | F13: 1.39 | G13: 1.02 | H13: 1.11 | I13: 1.21 | J13: 0.94 | K13: 0.99 | L13: 1.17 | M13: 0.85 | N13: 0.85 | O13: 1.11 | P13: 1.01 | Q13: 1.07 | R13: 1.11 | S13: 0.94 | T13: 1.02 | U13: 1.33
B14: Lucro (L) | C14: 0.065 | D14: 6.16 | E14: 7.4 | F14: 8.96 | G14: 6.64 | H14: 7.3 | I14: 8.69 | J14: 6.74 | K14: 8.04 | L14: 9.4 | M14: 3.5 | N14: 5.11 | O14: 6.22 | P14: 8 | Q14: 8.31 | R14: 9.51 | S14: 7.14 | T14: 8.4 | U14: 10.43
B15: Impostos (I) - PIS, COFINS, ISSQN | C15: 0.1016 | D15: Conforme Legislação Específica
B17: Observações | G17: VALORES DE BDI POR TIPO DE OBRA
B18: 1) Preencher apenas a coluna % Informado (Coluna B) | G18: Tipo de Obra | M18: 1ºQ | N18: Médio | O18: 3º Q
B19: 2) Os Tributos normalmente aplicáveis são: PIS (O,65%), COFINS (3,00%), ISS (2,00% conforme o município) e CPRB (4,50 %) | G19: Construção de Edifícios | M19: 20.34 | N19: 22.12 | O19: 25
B20: 3) O cálculo do BDI se baseia na fórmula abaixo utilizada pelo Acórdão 2622/13 do TCU, conforme CE GEPAD 354/2013 de 17/10/2013. | G20: Construção de Rodovias e Ferrovias - Infra Urbana, praças, etc. | M20: 19.6 | N20: 20.97 | O20: 24.23
B21: B.D.I = | C21: 0.264 | G21: Rede de Abastecimento de Água, Coleta de Esgotos | M21: 20.76 | N21: 24.18 | O21: 26.44
B22: Fórmula Utilizada: | G22: Estações e Redes de Distribuição de Energia Elétrica | M22: 24 | N22: 25.84 | O22: 27.86
G23: Obras Portuárias, Marítimas e Fluviais | M23: 22.8 | N23: 27.48 | O23: 30.95
G24: Fornecimento de Materiais e Equipamentos | M24: 11.1 | N24: 14.02 | O24: 16.8
B27: Observações sobre os % informados no cálculo do BDI, neste caso:
B28: Rodovias e Ferrovias - Infra Urbana, praças, calçadas, etc.
B29: OS VALORES % INFORMADO ENQUADRAM-SE NOS LIMITES DO ACÓRDÃO 2622/2013-TCU-PLENÁRIO
B30: OS VALORES % INFORMADO DE AC,DF E L ESTÃO NOS VALORES MÁXIMOS DOS LIMITES DO ACÓRDÃO 2622/2013-TCU-PLENÁRIO
B31: OS VALORES % INFORMADO DE S+G E R FORAM CONSIDERADOS ZERADOS OU SEJA, ABAIXO DO MÍNIMO DOS LIMITES DO ACÓRDÃO 2622/2013-TCU-PLENÁRIO
B33: BARRA DE SANTANA, 01 DE DEZEMBRO DE 2021.

Sheet ENCARGOS SOCIAIS
A1: SERVIÇOS COMPLEMENTARES PARA FINALIZAÇÃO DA OBRA DA SEDE DA PREFEITURA MUNICIPAL DE BARRA DE SANTANA - PB - TOMADA DE PREÇOS 0003/2021
A2: LOCAL | B2: =[1]Bdi!D2 -> MUNICÍPIO DE BARRA DE SANTANA - PB | E2: =[1]Planilha!G7 -> 0
A3: PROPRIETÁRIO | B3: =[1]Planilha!D9 -> PREFEITURA MUNICIPAL DE BARRA DE SANTANA - PB | E3: =[1]Planilha!G8 -> BDI: 26.4%
A4: ORÇAMENTO | B4: =[1]Planilha!D8 -> DESONERADO | E4: =[1]Bdi!F4 -> ENCARGOS SOCIAIS HORISTA: 116.38%
A5: SINAPI | B5: =[1]Bdi!D5 -> SINAPI - 09/2021 - PARAÍBA ORSE - 08/2021 - Sergipe | E5: =[1]Planilha!G10 -> ENCARGOS SOCIAIS MENSALISTA: 49.41%
A6: COMPOSIÇÃO DEMONSTRATIVA DE ENCARGOS SOCIAIS SOBRE A MÃO DE OBRA
A7: CÓDIGO | B7: DESCRIÇÃO DOS ITENS | C7: COM DESONERAÇÃO | E7: SEM DESONERAÇÃO
C8: HORISTA % | D8: MENSALISTA % | E8: HORISTA % | F8: MENSALISTA %
A9: GRUPO A
A10: A-1 | B10: INSS | C10: 0 | D10: 0 | E10: 0.2 | F10: 0.2
A11: A-2 | B11: SESI | C11: 0.015 | D11: 0.015 | E11: 0.015 | F11: 0.015
A12: A-3 | B12: SENAI | C12: 0.01 | D12: 0.01 | E12: 0.01 | F12: 0.01
A13: A-4 | B13: INCRA | C13: 0.002 | D13: 0.002 | E13: 0.002 | F13: 0.002
A14: A-5 | B14: SEBRAE | C14: 0.006 | D14: 0.006 | E14: 0.006 | F14: 0.006
A15: A-6 | B15: Salário Educação | C15: 0.025 | D15: 0.025 | E15: 0.025 | F15: 0.025
A16: A-7 | B16: Seguro Contra Acidentes de Trabalho | C16: 0.03 | D16: 0.03 | E16: 0.03 | F16: 0.03
A17: A-8 | B17: FGTS | C17: 0.08 | D17: 0.08 | E17: 0.08 | F17: 0.08
A18: A-9 | B18: SECONCI | C18: 0 | D18: 0 | E18: 0 | F18: 0
A19: A | B19: Total | C19: =SOMA(C10:C18) -> #NAME? | D19: =SOMA(D10:D18) -> #NAME? | E19: =SOMA(E10:E18) -> #NAME? | F19: =SOMA(F10:F18) -> #NAME?
A20: GRUPO B
A21: B-1 | B21: Repouso Semanal Remunerado | C21: 0.1802 | D21: NÃO INCIDE | E21: 0.1802 | F21: NÃO INCIDE
A22: B-2 | B22: Feriados | C22: 0.0431 | D22: NÃO INCIDE | E22: 0.0431 | F22: NÃO INCIDE
A23: B-3 | B23: Auxílio Enfermidade | C23: 0.009 | D23: 0.0069 | E23: 0.009 | F23: 0.0069
A24: B-4 | B24: 13º Salário | C24: 0.1079 | D24: 0.0833 | E24: 0.1079 | F24: 0.0833
A25: B-5 | B25: Licença Paternidade | C25: 0.0007 | D25: 0.0006 | E25: 0.0007 | F25: 0.0006
A26: B-6 | B26: Faltas justificadas | C26: 0.0072 | D26: 0.0056 | E26: 0.0072 | F26: 0.0056
A27: B-7 | B27: Dias de chuvas | C27: 0.0198 | D27: NÃO INCIDE | E27: 0.0198 | F27: NÃO INCIDE
A28: B-8 | B28: Auxílio Acidente deTrabalho | C28: 0.0011 | D28: 0.0009 | E28: 0.0011 | F28: 0.0009
A29: B-9 | B29: Férias gozadas | C29: 0.1386 | D29: 0.107 | E29: 0.1386 | F29: 0.107
A30: B-10 | B30: Salário-maternidade | C30: 0.0003 | D30: 0.0003 | E30: 0.0003 | F30: 0.0003
A31: B | B31: Total | C31: =SOMA(C21:C30) -> #NAME? | D31: =SOMA(D21:D30) -> #NAME? | E31: =SOMA(E21:E30) -> #NAME? | F31: =SOMA(F21:F30) -> #NAME?
A32: GRUPO C
A33: C-1 | B33: Aviso Prévio Indenizado | C33: 0.057 | D33: 0.0353 | E33: 0.0456 | F33: 0.0353
A34: C-2 | B34: Aviso Prévio Trabalhado | C34: 0.0011 | D34: 0.0008 | E34: 0.0011 | F34: 0.0008
A35: C-3 | B35: Férias Indenizadas | C35: 0.0051 | D35: 0.004 | E35: 0.0051 | F35: 0.004
A36: C-4 | B36: Depósito Rescisão Sem Justa Causa | C36: 0.0413 | D36: 0.032 | E36: 0.0413 | F36: 0.032
A37: C-5 | B37: Indenização Adicional | C37: 0.0038 | D37: 0.003 | E37: 0.0038 | F37: 0.003
A38: C | B38: Total | C38: =SOMA(C33:C37) -> #NAME? | D38: =SOMA(D33:D37) -> #NAME? | E38: =SOMA(E33:E37) -> #NAME? | F38: =SOMA(F33:F37) -> #NAME?
A39: GRUPO D
A40: D-1 | B40: Reincidência de Grupo A sobre Grupo B | C40: 0.0963 | D40: 0.0344 | E40: 0.1869 | F40: 0.0753
...

Sheet comp
F3: ='PLANILHA - GLOBAL '!#REF! -> #REF!
A5: CODIGO DA COMPOSICAO | B5: DESCRICAO DA COMPOSICAO | C5: UNIDADE | D5: CUSTO TOTAL
A7: 97141 | B7: ASSENTAMENTO DE TUBO DE FERRO FUNDIDO PARA REDE DE ÁGUA, DN 80 MM, JUNTA ELÁSTICA, INSTALADO EM LOCAL COM NÍVEL ALTO DE INTERFERÊNCIAS (NÃO INCLUI FORNECIMENTO). AF_11/2017 | C7: M | D7: 4.85 | E7: =TRUNC(D7-(D7*$F$3),2) -> #REF!
A8: 97142 | B8: ASSENTAMENTO DE TUBO DE FERRO FUNDIDO PARA REDE DE ÁGUA, DN 100 MM, JUNTA ELÁSTICA, INSTALADO EM LOCAL COM NÍVEL ALTO DE INTERFERÊNCIAS (NÃO INCLUI FORNECIMENTO). AF_11/2017 | C8: M | D8: 5.42 | E8: =TRUNC(D8-(D8*$F$3),2) -> #REF!
A9: 97143 | B9: ASSENTAMENTO DE TUBO DE FERRO FUNDIDO PARA REDE DE ÁGUA, DN 150 MM, JUNTA ELÁSTICA, INSTALADO EM LOCAL COM NÍVEL ALTO DE INTERFERÊNCIAS (NÃO INCLUI FORNECIMENTO). AF_11/2017 | C9: M | D9: 6.81 | E9: =TRUNC(D9-(D9*$F$3),2) -> #REF!
A10: 97144 | B10: ASSENTAMENTO DE TUBO DE FERRO FUNDIDO PARA REDE DE ÁGUA, DN 200 MM, JUNTA ELÁSTICA, INSTALADO EM LOCAL COM NÍVEL ALTO DE INTERFERÊNCIAS (NÃO INCLUI FORNECIMENTO). AF_11/2017 | C10: M | D10: 8.2 | E10: =TRUNC(D10-(D10*$F$3),2) -> #REF!
A11: 97145 | B11: ASSENTAMENTO DE TUBO DE FERRO FUNDIDO PARA REDE DE ÁGUA, DN 250 MM, JUNTA ELÁSTICA, INSTALADO EM LOCAL COM NÍVEL ALTO DE INTERFERÊNCIAS (NÃO INCLUI FORNECIMENTO). AF_11/2017 | C11: M | D11: 9.61 | E11: =TRUNC(D11-(D11*$F$3),2) -> #REF!
A12: 97146 | B12: ASSENTAMENTO DE TUBO DE FERRO FUNDIDO PARA REDE DE ÁGUA, DN 300 MM, JUNTA ELÁSTICA, INSTALADO EM LOCAL COM NÍVEL ALTO DE INTERFERÊNCIAS (NÃO INCLUI FORNECIMENTO). AF_11/2017 | C12: M | D12: 11.03 | E12: =TRUNC(D12-(D12*$F$3),2) -> #REF!
A13: 97147 | B13: ASSENTAMENTO DE TUBO DE FERRO FUNDIDO PARA REDE DE ÁGUA, DN 350 MM, JUNTA ELÁSTICA, INSTALADO EM LOCAL COM NÍVEL ALTO DE INTERFERÊNCIAS (NÃO INCLUI FORNECIMENTO). AF_11/2017 | C13: M | D13: 12.43 | E13: =TRUNC(D13-(D13*$F$3),2) -> #REF!
A14: 97148 | B14: ASSENTAMENTO DE TUBO DE FERRO FUNDIDO PARA REDE DE ÁGUA, DN 400 MM, JUNTA ELÁSTICA, INSTALADO EM LOCAL COM NÍVEL ALTO DE INTERFERÊNCIAS (NÃO INCLUI FORNECIMENTO). AF_11/2017 | C14: M | D14: 13.83 | E14: =TRUNC(D14-(D14*$F$3),2) -> #REF!
A15: 97149 | B15: ASSENTAMENTO DE TUBO DE FERRO FUNDIDO PARA REDE DE ÁGUA, DN 450 MM, JUNTA ELÁSTICA, INSTALADO EM LOCAL COM NÍVEL ALTO DE INTERFERÊNCIAS (NÃO INCLUI FORNECIMENTO). AF_11/2017 | C15: M | D15: 15.26 | E15: =TRUNC(D15-(D15*$F$3),2) -> #REF!
A16: 97150 | B16: ASSENTAMENTO DE TUBO DE FERRO FUNDIDO PARA REDE DE ÁGUA, DN 500 MM, JUNTA ELÁSTICA, INSTALADO EM LOCAL COM NÍVEL ALTO DE INTERFERÊNCIAS (NÃO INCLUI FORNECIMENTO). AF_11/2017 | C16: M | D16: 18.83 | E16: =TRUNC(D16-(D16*$F$3),2) -> #REF!
A17: 97151 | B17: ASSENTAMENTO DE TUBO DE FERRO FUNDIDO PARA REDE DE ÁGUA, DN 600 MM, JUNTA ELÁSTICA, INSTALADO EM LOCAL COM NÍVEL ALTO DE INTERFERÊNCIAS (NÃO INCLUI FORNECIMENTO). AF_11/2017 | C17: M | D17: 21.97 | E17: =TRUNC(D17-(D17*$F$3),2) -> #REF!
A18: 97152 | B18: ASSENTAMENTO DE TUBO DE FERRO FUNDIDO PARA REDE DE ÁGUA, DN 700 MM, JUNTA ELÁSTICA, INSTALADO EM LOCAL COM NÍVEL ALTO DE INTERFERÊNCIAS (NÃO INCLUI FORNECIMENTO). AF_11/2017 | C18: M | D18: 25 | E18: =TRUNC(D18-(D18*$F$3),2) -> #REF!
... A1317: 94444 | B1317: TELHAMENTO COM TELHA DE ENCAIXE, TIPO FRANCESA DE VIDRO, COM ATÉ 2 ÁGUAS, INCLUSO TRANSPORTE VERTICAL. AF_07/2019 | C1317: M2 | D1317: 548.23 | E1317: =TRUNC(D1317-(D1317*$F$3),2) -> #REF!
A1318: 73816/1 | B1318: EXECUCAO DE DRENO COM TUBOS DE PVC CORRUGADO FLEXIVEL PERFURADO - DN 100 | C1318: M | D1318: 26.83 | E1318: =TRUNC(D1318-(D1318*$F$3),2) -> #REF!
A1319: 73881/1 | B1319: EXECUCAO DE DRENO COM MANTA GEOTEXTIL 200 G/M2 | C1319: M2 | D1319: 6.2 | E1319: =TRUNC(D1319-(D1319*$F$3),2) -> #REF!
A1320: 73881/3 | B1320: EXECUCAO DE DRENO COM MANTA GEOTEXTIL 400 G/M2 | C1320: M2 | D1320: 12.16 | E1320: =TRUNC(D1320-(D1320*$F$3),2) -> #REF!
A1321: 73883/1 | B1321: EXECUCAO DE DRENO FRANCES COM AREIA MEDIA | C1321: M3 | D1321: 102.1 | E1321: =TRUNC(D1321-(D1321*$F$3),2) -> #REF!
A1322: 73883/2 | B1322: EXECUCAO DE DRENO FRANCES COM BRITA NUM 2 | C1322: M3 | D1322: 109.28 | E1322: =TRUNC(D1322-(D1322*$F$3),2) -> #REF!
A1323: 73883/3 | B1323: EXECUCAO DE DRENO FRANCES COM CASCALHO | C1323: M3 | D1323: 67.48 | E1323: =TRUNC(D1323-(D1323*$F$3),2) -> #REF!
A1324: 73969/1 | B1324: EXECUCAO DE DRENOS DE CHORUME EM TUBOS DRENANTES DE CONCRETO, DIAM=200MM, ENVOLTOS EM BRITA E GEOTEXTIL | C1324: M | D1324: 68.37 | E1324: =TRUNC(D1324-(D1324*$F$3),2) -> #REF!
A1325: 74017/1 | B1325: EXECUCAO DE DRENOS DE CHORUME EM TUBOS DRENANTES, PVC, DIAM=100 MM, ENVOLTOS EM BRITA E GEOTEXTIL | C1325: M | D1325: 46.8 | E1325: =TRUNC(D1325-(D1325*$F$3),2) -> #REF!
A1326: 74017/2 | B1326: EXECUCAO DE DRENOS DE CHORUME EM TUBOS DRENANTES, PVC, DIAM=150 MM, ENVOLTOS EM BRITA E GEOTEXTIL | C1326: M | D1326: 62.7 | E1326: =TRUNC(D1326-(D1326*$F$3),2) -> #REF!
A1327: 75029/1 | B1327: TUBO PVC CORRUGADO RIGIDO PERFURADO DN 150 PARA DRENAGEM - FORNECIMENTO E INSTALACAO | C1327: M | D1327: 39.68 | E1327: =TRUNC(D1327-(D1327*$F$3),2) -> #REF!
A1328: 83651 | B1328: TUBO PVC CORRUGADO PERFURADO 100 MM C/ JUNTA ELASTICA PARA DRENAGEM. | C1328: M | D1328: 27.52 | E1328: =TRUNC(D1328-(D1328*$F$3),2) -> #REF!
A1329: 83658 | B1329: EXECUCAO DRENO PROFUNDO, COM CORTE TRAPEZOIDAL EM SOLO, DE 70X80X150CM EXCL TUBO INCL MATERIAL EXECUCAO, COM SELO ENCHIMENTO MATERIAL DRENANTE E ESCAVACAO | C1329: M | D1329: 156.42 | E1329: =TRUNC(D1329-(D1329*$F$3),2) -> #REF!
A1330: 83661 | B1330: EXECUCAO DE DRENO PROFUNDO, CORTE EM SOLO, COM TUBO POROSO D=0,20M | C1330: M | D1330: 104.08 | E1330: =TRUNC(D1330-(D1330*$F$3),2) -> #REF!
A1331: 83662 | B1331: EXECUCAO DE DRENO CEGO | C1331: M3 | D1331: 98.88 | E1331: =TRUNC(D1331-(D1331*$F$3),2) -> #REF!
A1332: 83664 | B1332: EXECUCAO DE DRENO DE TUBO DE CONRETO SIMPLES POROSO D=0,20 M (0,5MX0,5M) PARA GALERIAS DE AGUAS PLUVIAIS | C1332: M | D1332: 63.46 | E1332: =TRUNC(D1332-(D1332*$F$3),2) -> #REF!
A1333: 83670 | B1333: TUBO PVC DN 75 MM PARA DRENAGEM - FORNECIMENTO E INSTALACAO | C1333: M | D1333: 42.83 | E1333: =TRUNC(D1333-(D1333*$F$3),2) -> #REF!
A1334: 83671 | B1334: TUBO PVC DN 100 MM PARA DRENAGEM - FORNECIMENTO E INSTALACAO | C1334: M | D1334: 45.98 | E1334: =TRUNC(D1334-(D1334*$F$3),2) -> #REF!
A1335: 83679 | B1335: TUBO PVC D=2 COM MATERIAL DRENANTE PARA DRENO/BARBACA - FORNECIMENTO E INSTALACAO | C1335: M | D1335: 12.69 | E1335: =TRUNC(D1335-(D1335*$F$3),2) -> #REF!
A1336: 83680 | B1336: TUBO PVC D=3" COM MATERIAL DRENANTE PARA DRENO/BARBACA - FORNECIMENTO E INSTALACAO | C1336: M | D1336: 15.2 | E1336: =TRUNC(D1336-(D1336*$F$3),2) -> #REF!
A1337: 83681 | B1337: TUBO PVC D=4" COM MATERIAL DRENANTE PARA DRENO/BARBACA - FORNECIMENTO E INSTALACAO | C1337: M | D1337: 16.34 | E1337: =TRUNC(D1337-(D1337*$F$3),2) -> #REF!
A1338: 92743 | B1338: MURO DE GABIÃO, ENCHIMENTO COM PEDRA DE MÃO TIPO RACHÃO, DE GRAVIDADE, COM GAIOLAS DE COMPRIMENTO IGUAL A 2 M, PARA MUROS COM ALTURA MENOR OU IGUAL A 4 M  FORNECIMENTO E EXECUÇÃO. AF_12/2015 | C1338: M3 | D1338: 482.53 | E1338: =TRUNC(D1338-(D1338*$F$3),2) -> #REF!
A1339: 92744 | B1339: MURO DE GABIÃO, ENCHIMENTO COM PEDRA DE MÃO TIPO RACHÃO, DE GRAVIDADE, COM GAIOLAS DE COMPRIMENTO IGUAL A 5 M, PARA MUROS COM ALTURA MENOR OU IGUAL A 4 M  FORNECIMENTO E EXECUÇÃO. AF_12/2015 | C1339: M3 | D1339: 477.97 | E1339: =TRUNC(D1339-(D1339*$F$3),2) -> #REF!
... A1419: 100349 | B1419: CONCRETAGEM DE CORTINA DE CONTENÇÃO, ATRAVÉS DE BOMBA  LANÇAMENTO, ADENSAMENTO E ACABAMENTO. AF_07/2019 | C1419: M3 | D1419: 416.93 | E1419: =TRUNC(D1419-(D1419*$F$3),2) -> #REF!
A1420: 73799/1 | B1420: GRELHA EM FERRO FUNDIDO SIMPLES COM REQUADRO, CARGA MÁXIMA 12,5 T, 300 X 1000 MM, E = 15 MM, FORNECIDA E ASSENTADA COM ARGAMASSA 1:4 CIMENTO:AREIA. | C1420: UN | D1420: 334.46 | E1420: =TRUNC(D1420-(D1420*$F$3),2) -> #REF!
A1421: 73856/1 | B1421: BOCA P/BUEIRO SIMPLES TUBULAR D=0,40M EM CONCRETO CICLOPICO, INCLINDO FORMAS, ESCAVACAO, REATERRO E MATERIAIS, EXCLUINDO MATERIAL REATERRO JAZIDA E TRANSPORTE | C1421: UN | D1421: 534.44 | E1421: =TRUNC(D1421-(D1421*$F$3),2) -> #REF!
...

Sheet insumo
A1: PRECOS DE INSUMOS
A3: MES DE COLETA: 04/2020
A4: LOCALIDADE: 1070 - JOAO PESSOA
A5: ENCARGOS SOCIAIS (%) HORISTA 116,38 MENSALISTA 72,61 | F5: ='PLANILHA - GLOBAL '!#REF! -> #REF!
A7: CODIGO | B7: DESCRICAO DO INSUMO | C7: UNIDADE | D7: PRECO MEDIANO R$
A8: 41758 | B8: !EM PROCESSO DE DESATIVACAO! CADEADO EM ACO INOX, LARGURA DE *50* MM, COM HASTE EM ACO TEMPERADO, SEM MOLA - CHAVES INCLUIDAS | C8: UN | D8: 135.3 | E8: =TRUNC(D8-(D8*$F$5),2) -> #REF!
A9: 1363 | B9: !EM PROCESSO DE DESATIVACAO! CHAPA DE MADEIRA COMPENSADA DE PINUS, VIROLA OU EQUIVALENTE, DE *2,2 X 1,6* M, E = 6 MM | C9: M2 | D9: 18.89 | E9: =TRUNC(D9-(D9*$F$5),2) -> #REF!
A10: 1344 | B10: !EM PROCESSO DE DESATIVACAO! CHAPA DE MADEIRA COMPENSADA PLASTIFICADA PARA FORMA DE CONCRETO, DE 2,20 x 1,10 M, E = 6 MM | C10: UN | D10: 41.51 | E10: =TRUNC(D10-(D10*$F$5),2) -> #REF!
A11: 1342 | B11: !EM PROCESSO DE DESATIVACAO! CHAPA DE MADEIRA COMPENSADA PLASTIFICADA PARA FORMA DE CONCRETO, DE 2,20 X 1,10 m, E = 14 MM | C11: UN | D11: 73.38 | E11: =TRUNC(D11-(D11*$F$5),2) -> #REF!
A12: 1349 | B12: !EM PROCESSO DE DESATIVACAO! CHAPA DE MADEIRA COMPENSADA PLASTIFICADA PARA FORMA DE CONCRETO, DE 2,20 X 1,10 M, E = 20 MM | C12: UN | D12: 104.66 | E12: =TRUNC(D12-(D12*$F$5),2) -> #REF!
A13: 1350 | B13: !EM PROCESSO DE DESATIVACAO! CHAPA DE MADEIRA COMPENSADA RESINADA PARA FORMA DE CONCRETO, DE *2,2 X 1,1* M, E = 10 MM | C13: UN | D13: 40 | E13: =TRUNC(D13-(D13*$F$5),2) -> #REF!
A14: 1357 | B14: !EM PROCESSO DE DESATIVACAO! CHAPA DE MADEIRA COMPENSADA RESINADA PARA FORMA DE CONCRETO, DE *2,2 X 1,1* M, E = 12 MM | C14: UN | D14: 50.95 | E14: =TRUNC(D14-(D14*$F$5),2) -> #REF!
A15: 1359 | B15: !EM PROCESSO DE DESATIVACAO! CHAPA DE MADEIRA COMPENSADA RESINADA PARA FORMA DE CONCRETO, DE *2,2 X 1,1* M, E = 20 MM | C15: UN | D15: 78.72 | E15: =TRUNC(D15-(D15*$F$5),2) -> #REF!
A16: 1351 | B16: !EM PROCESSO DE DESATIVACAO! CHAPA DE MADEIRA COMPENSADA RESINADA PARA FORMA DE CONCRETO, DE *2,2 X 1,1* M, E = 6 MM | C16: UN | D16: 25.36 | E16: =TRUNC(D16-(D16*$F$5),2) -> #REF!
A17: 3113 | B17: !EM PROCESSO DE DESATIVACAO! CREMONA COM CASTANHA BIPARTIDA, COM VARA DE 1.50 M, EM LATAO CROMADO, PARA PORTAS E JANELAS - COMPLETA | C17: CJ | D17: 59.03 | E17: =TRUNC(D17-(D17*$F$5),2) -> #REF!
A18: 2404 | B18: !EM PROCESSO DE DESATIVACAO! DIVISORIA COLMEIA CEGA COM MONTANTE E RODAPE DE ALUMINIO ANODIZADO SIMPLES (SEM COLOCACAO) | C18: M2 | D18: 81.76 | E18: =TRUNC(D18-(D18*$F$5),2) -> #REF!
A19: 2418 | B19: !EM PROCESSO DE DESATIVACAO! DOBRADICA EM ACO/FERRO, 3" X 2 1/2", E= 1,2 A 1,8 MM, SEM ANEL, CROMADO OU ZINCADO, TAMPA BOLA, COM PARAFUSOS | C19: UN | D19: 12.44 | E19: =TRUNC(D19-(D19*$F$5),2) -> #REF!
... A4146: 39393 | B4146: SENSOR DE PRESENCA BIVOLT DE PAREDE SEM FOTOCELULA PARA QUALQUER TIPO DE LAMPADA POTENCIA MAXIMA *1000* W, USO INTERNO | C4146: UN | D4146: 29.42 | E4146: =TRUNC(D4146-(D4146*$F$5),2) -> #REF!
A4147: 39394 | B4147: SENSOR DE PRESENCA BIVOLT DE TETO COM FOTOCELULA PARA QUALQUER TIPO DE LAMPADA POTENCIA MAXIMA *1000* W, USO INTERNO | C4147: UN | D4147: 33.11 | E4147: =TRUNC(D4147-(D4147*$F$5),2) -> #REF! | G4147: 11.07 | H4147: 2.1638
A4148: 39395 | B4148: SENSOR DE PRESENCA BIVOLT DE TETO SEM FOTOCELULA PARA QUALQUER TIPO DE LAMPADA POTENCIA MAXIMA *900* W, USO INTERNO | C4148: UN | D4148: 30.79 | E4148: =TRUNC(D4148-(D4148*$F$5),2) -> #REF! | G4148: X | H4148: 1
A4149: 14618 | B4149: SERRA CIRCULAR DE BANCADA COM MOTOR ELETRICO, POTENCIA DE *1600* W, PARA DISCO DE DIAMETRO DE 10" (250 MM) | C4149: UN | D4149: 954.13 | E4149: =TRUNC(D4149-(D4149*$F$5),2) -> #REF!
A4150: 40269 | B4150: SERRA CIRCULAR DE BANCADA, MODELO PICA-PAU, DIAMETRO DE 350 MM. CARACTERISTICAS DO MOTOR: TRIFASICO, POTENCIA DE 5 HP, FREQUENCIA DE 60 HZ | C4150: UN | D4150: 3844.13 | E4150: =TRUNC(D4150-(D4150*$F$5),2) -> #REF!
A4151: 6110 | B4151: SERRALHEIRO | C4151: H | D4151: 13.84 | E4151: =TRUNC(D4151-(D4151*$F$5),2) -> #REF!
A4152: 40910 | B4152: SERRALHEIRO (MENSALISTA) | C4152: MES | D4152: 2430.34 | E4152: =TRUNC(D4152-(D4152*$F$5),2) -> #REF!
A4153: 6111 | B4153: SERVENTE DE OBRAS | C4153: H | D4153: 11.07 | E4153: =TRUNC(D4153-(D4153*$F$5),2) -> #REF!
A4154: 41084 | B4154: SERVENTE DE OBRAS (MENSALISTA) | C4154: MES | D4154: 1944.27 | E4154: =TRUNC(D4154-(D4154*$F$5),2) -> #REF!
A4155: 25950 | B4155: SERVICO DE BOMBEAMENTO DE CONCRETO COM CONSUMO MINIMO DE 40 M3 | C4155: M3 | D4155: 35.26 | E4155: =TRUNC(D4155-(D4155*$F$5),2) -> #REF!
A4156: 38637 | B4156: SIFAO EM METAL CROMADO PARA PIA AMERICANA, 1.1/2 X 1.1/2 " | C4156: UN | D4156: 230.5 | E4156: =TRUNC(D4156-(D4156*$F$5),2) -> #REF!
A4157: 6150 | B4157: SIFAO EM METAL CROMADO PARA PIA AMERICANA, 1.1/2 X 2 " | C4157: UN | D4157: 233.32 | E4157: =TRUNC(D4157-(D4157*$F$5),2) -> #REF!
A4158: 6136 | B4158: SIFAO EM METAL CROMADO PARA PIA OU LAVATORIO, 1 X 1.1/2 " | C4158: UN | D4158: 183.4 | E4158: =TRUNC(D4158-(D4158*$F$5),2) -> #REF!
A4159: 38638 | B4159: SIFAO EM METAL CROMADO PARA TANQUE, 1.1/4 X 1.1/2 " | C4159: UN | D4159: 194.23 | E4159: =TRUNC(D4159-(D4159*$F$5),2) -> #REF!
A4160: 20262 | B4160: SIFAO PLASTICO EXTENSIVEL UNIVERSAL, TIPO COPO | C4160: UN | D4160: 8.44 | E4160: =TRUNC(D4160-(D4160*$F$5),2) -> #REF!
... A5266: 11157 | B5266: WASH PRIMER PARA TINTA AUTOMOTIVA | C5266: GL | D5266: 145.51 | E5266: =TRUNC(D5266-(D5266*$F$5),2) -> #REF!
A5267: 6893/ORSE | B5267: PISO TATIL DIRECIONAL E/OU ALERTA, EM BORRACHA, P/ DEFICIENTES VISUAIS, DIMENSOES 25X25 CM, APLICADO, REJUNTADO, EXCLUSIVE REGULARIZAÇÃO DE BASE | C5267: M² | D5267: 240 | E5267: =TRUNC(D5267-(D5267*$F$5),2) -> #REF!
A5268: 1997/ORSE | B5268: Sabão em pó | C5268: KG | D5268: 5.7 | E5268: =TRUNC(D5268-(D5268*$F$5),2) -> #REF!
A5269: 2414/ORSE | B5269: Vassoura piaçava | C5269: UN | D5269: 7 | E5269: =TRUNC(D5269-(D5269*$F$5),2) -> #REF!
E5270: =TRUNC(D5270-(D5270*$F$5),2) -> #REF!
E5271: =TRUNC(D5271-(D5271*$F$5),2) -> #REF!
E5272: =TRUNC(D5272-(D5272*$F$5),2) -> #REF!
